BEGIN:VCALENDAR
VERSION:2.0
PRODID:-//wp-events-plugin.com//7.2.3.1//EN
BEGIN:VEVENT
UID:95@minelligarden.it
DTSTART;TZID=Europe/Rome:20260502T090000
DTEND;TZID=Europe/Rome:20260502T101500
DTSTAMP:20260413T091942Z
URL:https://www.minelligarden.it/events/yoga-nel-verde/
SUMMARY:Yoga nel verde
DESCRIPTION:Data: 2 maggio \n\nConduce: Mara Melloni di Soul Studio \n\nD
 urata attività: dalle 9:00 alle 10:15 (ritrovo ore 8:45) \n\nA chi è ri
 volto: principianti e a chiunque desideri concedersi una pausa rigenerante
  immersa nella natura.\n\nDescrizione:\nLezione di Yoga con Mara: un incon
 tro di Hatha Yoga adatto a tutti\, pensato per ritrovare equilibrio e bene
 ssere. Attraverso movimenti semplici\, lenti e guidati\, andremo a sciogli
 ere le tensioni del corpo e calmare la mente. La pratica si concluderà co
 n un momento di profondo rilassamento\, per lasciare spazio a una sensazio
 ne di leggerezza e armonia.\nAl termine\, condivideremo insieme un piacevo
 le coffee break immersi nel verde.\n\nCosa portare: tappetino e voglia di 
 stare bene.\n\nCosto: 15 € a persona\n\nPosti disponibili: massimo 30 pe
 rsone\n\nIscrizioni:\nIl pagamento deve essere effettuato contestualmente 
 all’iscrizione\, scegliendo una delle seguenti modalità:\n\n 	Bonifico 
 bancario * IBAN: IT 17 V08509 23401 001009427012\n\n 	Intestatario: MINELL
 I GARDEN SRL SOC. AGR.\n 	Causale: Nome e cognome – Yoga nel verde\n 	Sa
 tispay\, contattando telefonicamente il garden.\n\n\n
ATTACH;FMTTYPE=image/jpeg:https://www.minelligarden.it/wp-content/uploads/
 2026/04/Anteprima_Evento_360x240px_corsi.jpg
CATEGORIES:Corsi e Laboratori
LOCATION:Minelli Garden\, Via Bondenese\, 155\, Buonacompra di Cento\, FE\,
  44041\, Emilia-Romagna\, Italia
X-APPLE-STRUCTURED-LOCATION;VALUE=URI;X-ADDRESS=Via Bondenese\, 155\, Buona
 compra di Cento\, FE\, 44041\, Emilia-Romagna\, Italia;X-APPLE-RADIUS=100;
 X-TITLE=Minelli Garden:geo:0,0
END:VEVENT
BEGIN:VTIMEZONE
TZID:Europe/Rome
X-LIC-LOCATION:Europe/Rome
BEGIN:DAYLIGHT
DTSTART:20260329T030000
TZOFFSETFROM:+0100
TZOFFSETTO:+0200
TZNAME:CEST
END:DAYLIGHT
END:VTIMEZONE
END:VCALENDAR