BEGIN:VCALENDAR
VERSION:2.0
PRODID:-//wp-events-plugin.com//7.2.3.1//EN
BEGIN:VEVENT
UID:96@minelligarden.it
DTSTART;TZID=Europe/Rome:20260516T150000
DTEND;TZID=Europe/Rome:20260516T163000
DTSTAMP:20260413T092337Z
URL:https://www.minelligarden.it/events/regina-di-maggio-cura-e-potatura-d
 elle-rose/
SUMMARY:Regina di Maggio: cura e potatura delle rose
DESCRIPTION:Data: 16 maggio \n\nOre: 15 (durata: un’ora e mezza)\n\nCond
 uce: Matteo\n\nA chi è rivolto: Appassionati di giardinaggio\, possessori
  di balconi o giardini\n\nDescrizione: Un corso dimostrativo interamente d
 edicato alla cura delle rose. Matteo illustrerà le differenze tra le vari
 età (cespuglio\, rampicanti\, antiche)\, spiegando come gestire la cura .
  Vedremo insieme le tecniche di potatura corretta per stimolare la fioritu
 ra e come prevenire le malattie più comuni per mantenere le tue rose sple
 ndide tutto l'anno.\n\nCosto: Gratuito\n\nPosti disponibili: Numero limita
 to max. 30 persone \n\nNota: La prenotazione è obbligatoria.
ATTACH;FMTTYPE=image/jpeg:https://www.minelligarden.it/wp-content/uploads/
 2026/04/Anteprima_Evento_360x240px_corsi2.jpg
CATEGORIES:Corsi e Laboratori
LOCATION:Minelli Garden\, Via Bondenese\, 155\, Buonacompra di Cento\, FE\,
  44041\, Emilia-Romagna\, Italia
X-APPLE-STRUCTURED-LOCATION;VALUE=URI;X-ADDRESS=Via Bondenese\, 155\, Buona
 compra di Cento\, FE\, 44041\, Emilia-Romagna\, Italia;X-APPLE-RADIUS=100;
 X-TITLE=Minelli Garden:geo:0,0
END:VEVENT
BEGIN:VTIMEZONE
TZID:Europe/Rome
X-LIC-LOCATION:Europe/Rome
BEGIN:DAYLIGHT
DTSTART:20260329T030000
TZOFFSETFROM:+0100
TZOFFSETTO:+0200
TZNAME:CEST
END:DAYLIGHT
END:VTIMEZONE
END:VCALENDAR