BEGIN:VCALENDAR
VERSION:2.0
PRODID:-//wp-events-plugin.com//7.2.3.1//EN
BEGIN:VEVENT
UID:98@minelligarden.it
DTSTART;TZID=Europe/Rome:20260524T100000
DTEND;TZID=Europe/Rome:20260524T113000
DTSTAMP:20260413T093333Z
URL:https://www.minelligarden.it/events/peperoncino-che-passione/
SUMMARY:Peperoncino che passione!
DESCRIPTION:Data: Domenica 24 maggio \n\nOre: 10 \n\nConduce: Matteo e Cl
 audio\, Green advisor di Cifo\n\nA chi è rivolto: Amanti dei gusti piccan
 ti\, ortolani urbani e appassionati di botanica.\n\nDescrizione: Scopri tu
 tti i segreti per coltivare con successo la pianta più piccante che c’
 è! Imparerai i principali aspetti agronomici\, dalla semina alla raccolta
 \, e i trucchi per mantenerle produttive. Nella seconda parte\, Claudio di
  Cifo ti guiderà nel mondo della concimazione e del mantenimento con cons
 igli pratici per piante forti e frutti super piccanti.\n\nCosto: Gratuito\
 n\nPosti disponibili: massimo 30 persone\n\nNota: In collaborazione con CI
 FO.
ATTACH;FMTTYPE=image/jpeg:https://www.minelligarden.it/wp-content/uploads/
 2026/04/Anteprima_Evento_360x240px_corsi4.jpg
CATEGORIES:Corsi e Laboratori
LOCATION:Minelli Garden\, Via Bondenese\, 155\, Buonacompra di Cento\, FE\,
  44041\, Emilia-Romagna\, Italia
X-APPLE-STRUCTURED-LOCATION;VALUE=URI;X-ADDRESS=Via Bondenese\, 155\, Buona
 compra di Cento\, FE\, 44041\, Emilia-Romagna\, Italia;X-APPLE-RADIUS=100;
 X-TITLE=Minelli Garden:geo:0,0
END:VEVENT
BEGIN:VTIMEZONE
TZID:Europe/Rome
X-LIC-LOCATION:Europe/Rome
BEGIN:DAYLIGHT
DTSTART:20260329T030000
TZOFFSETFROM:+0100
TZOFFSETTO:+0200
TZNAME:CEST
END:DAYLIGHT
END:VTIMEZONE
END:VCALENDAR