BEGIN:VCALENDAR
VERSION:2.0
PRODID:-//wp-events-plugin.com//7.2.3.1//EN
BEGIN:VEVENT
UID:97@minelligarden.it
DTSTART;TZID=Europe/Rome:20260517T150000
DTEND;TZID=Europe/Rome:20260517T163000
DTSTAMP:20260413T093041Z
URL:https://www.minelligarden.it/events/pennelli-e-petali-workshop-di-deco
 razione-vasi/
SUMMARY:Pennelli e petali: workshop di decorazione vasi
DESCRIPTION:Data: Domenica 17 maggio \n\nOre: 15 (durata un’ora e mezza)
  \n\nConduce: Gozde\, pittrice \n\nA chi è rivolto: Creativi\, amanti d
 ell'home decor e chiunque voglia passare un pomeriggio artistico in compag
 nia.\n\nDescrizione: Un workshop dedicato alla creatività e al relax. Sot
 to la guida di Gozde\, trasformerai un semplice vaso di terracotta in un p
 ezzo d'arredamento unico per la vostra casa\, sperimentando con colori e p
 ennelli immersi nel verde del Garden. Durante il laboratorio faremo merend
 a insieme: il modo perfetto per ricaricare le energie e dare sfogo alla fa
 ntasia.\n\nCosto: 15 € a persona \n\nPosti disponibili: massimo 20 pers
 one\n\nIl pagamento deve essere effettuato contestualmente all’iscrizion
 e\, scegliendo una delle seguenti modalità:\n\n 	Bonifico bancario * IBAN
 : IT 17 V08509 23401 001009427012\n\n 	Intestatario: MINELLI GARDEN SRL SO
 C. AGR.\n 	Causale: Nome e cognome – Workshop Vasi\n\n\n 	Satispay\, con
 tattando telefonicamente il garden.\n
ATTACH;FMTTYPE=image/jpeg:https://www.minelligarden.it/wp-content/uploads/
 2026/04/Anteprima_Evento_360x240px_corsi3.jpg
CATEGORIES:Corsi e Laboratori
LOCATION:Minelli Garden\, Via Bondenese\, 155\, Buonacompra di Cento\, FE\,
  44041\, Emilia-Romagna\, Italia
X-APPLE-STRUCTURED-LOCATION;VALUE=URI;X-ADDRESS=Via Bondenese\, 155\, Buona
 compra di Cento\, FE\, 44041\, Emilia-Romagna\, Italia;X-APPLE-RADIUS=100;
 X-TITLE=Minelli Garden:geo:0,0
END:VEVENT
BEGIN:VTIMEZONE
TZID:Europe/Rome
X-LIC-LOCATION:Europe/Rome
BEGIN:DAYLIGHT
DTSTART:20260329T030000
TZOFFSETFROM:+0100
TZOFFSETTO:+0200
TZNAME:CEST
END:DAYLIGHT
END:VTIMEZONE
END:VCALENDAR